BEGIN:VCALENDAR
VERSION:2.0
PRODID:-//Library Market//iCal Export//EN
BEGIN:VEVENT
SUMMARY:Dear IT: Let&#039;s Talk Batteries
UID:69502
DTSTAMP:20260420T014300Z
DTSTART:20260307T190000Z
DTEND:20260307T203000Z
LOCATION:Wallingford Public Library, 200 North Main St., Wallingford, CT 0
 6492, United States
ROOM: Board Room
DESCRIPTION:Batteries are in everything now! From phones and laptops to e
 arbuds, tablets, and smart home devices, batteries power our digital lives
  while we’re on the go. They come in many shapes and sizes, and not all 
 of them work the same way.In this class, Connor will break down the basics
  of modern batteries. You’ll learn the differences between common batter
 y types, how to charge them safely, what affects battery life, and how to 
 spot signs that a battery may need to be replaced. We’ll also cover simp
 le tips to help your devices last longer and avoid common battery mistakes
 .Note: Class capacity is limited so our instructors have a chance to answe
 r everyone&#039;s questions. Registration is required in order to secure a
  seat. This program will also be held on Monday, March 9th at 6pm. Please 
 register for only one session.
URL:https://www.wallingfordlibrary.org/event/dear-it-lets-talk-batteries-6
 9502
END:VEVENT
END:VCALENDAR
