BEGIN:VCALENDAR
VERSION:2.0
PRODID:-//Library Market//iCal Export//EN
BEGIN:VEVENT
SUMMARY:Watch The Karate Kid with East Asian Snacks
UID:77681
DTSTAMP:20260421T003200Z
DTSTART:20260515T203000Z
DTEND:20260515T230000Z
LOCATION:Wallingford Public Library, 200 North Main St., Wallingford, CT 0
 6492, United States
ROOM: Community Room
DESCRIPTION:Grades 6-12 | Register for a reminderIn honor of Asian/Pacific
  American Heritage Month, come watch as Daniel learns the art of karate fr
 om Mr. Miyagi in this classic. Both immigrants to Los Angeles, Daniel from
  Newark, NJ and Mr. Miyagi from Okinawa, Japan, these two each learn a gre
 at deal about life and their place in the world from one another.While enj
 oying your first or latest viewing of the film, partake in some of our fav
 orite snacks from East Asia!
URL:https://www.wallingfordlibrary.org/event/watch-karate-kid-east-asian-s
 nacks-77681
END:VEVENT
END:VCALENDAR
